BEGIN:VCALENDAR
VERSION:2.0
PRODID:-//Tukios.com/
BEGIN:VEVENT
UID:a953e414-5ff6-449c-a4ef-5c19f304f081@www.westfamilyfuneralservices.com
DTSTAMP:20260420T224900Z
DTSTART:20260422T150000Z
DTEND:20260422T160000Z
SUMMARY:Funeral Service
DESCRIPTION:
URL:https://www.westfamilyfuneralservices.com/obituaries/shirley-henderson
LOCATION:Oakley Baptist Church 70 Fairview Avenue  Asheville NC 28802
GEO:35.566412;-82.5146445
END:VEVENT
END:VCALENDAR