BEGIN:VCALENDAR
VERSION:2.0
PRODID:-//Tukios.com/
BEGIN:VEVENT
UID:92b8c74d-b3e3-4e8b-a51f-9dc6b77626da@www.westfamilyfuneralservices.com
DTSTAMP:20260422T013116Z
DTSTART:20260424T183000Z
DTEND:20260424T193000Z
SUMMARY:Burial
DESCRIPTION:
URL:https://www.westfamilyfuneralservices.com/obituaries/rodney-ogle
LOCATION:Pleasant Hill Baptist Church Cemetery 754 Aiken Road  Asheville 
	NC 28804
GEO:35.6788414;-82.5951006
END:VEVENT
END:VCALENDAR