BEGIN:VCALENDAR
VERSION:2.0
PRODID:-//Tukios.com/
BEGIN:VEVENT
UID:da480ac8-3c01-4331-9040-fb0e29ee60c1@www.westfamilyfuneralservices.com
DTSTAMP:20260422T013351Z
DTSTART:20260424T183000Z
DTEND:20260424T193000Z
SUMMARY:Graveside Service
DESCRIPTION:
URL:https://www.westfamilyfuneralservices.com/obituaries/rodney-ogle
LOCATION:Pleasant Hill Baptist Church Cemetery 754 Aiken Road  Asheville 
	NC 28804
GEO:35.6788414;-82.5951006
END:VEVENT
END:VCALENDAR