BEGIN:VCALENDAR
VERSION:2.0
PRODID:-//Tukios.com/
BEGIN:VEVENT
UID:3d5ee744-b7e0-4e4b-8707-a23427baf7b2@www.westfamilyfuneralservices.com
DTSTAMP:20260420T232927Z
DTSTART:20260422T190000Z
DTEND:20260422T200000Z
SUMMARY:Graveside Service
DESCRIPTION:
URL:https://www.westfamilyfuneralservices.com/obituaries/judy-geouge
LOCATION:West Memorial Park 40 Roberts St  Weaverville NC 28787
GEO:35.6972621;-82.557976
END:VEVENT
END:VCALENDAR