BEGIN:VCALENDAR
VERSION:2.0
PRODID:-//Tukios.com/
BEGIN:VEVENT
UID:9e049ed4-4062-4ea4-8f83-75ad42b12c9f@www.westfamilyfuneralservices.com
DTSTAMP:20260421T022818Z
DTSTART:20260423T150000Z
DTEND:20260423T160000Z
SUMMARY:Funeral Service
DESCRIPTION:
URL:https://www.westfamilyfuneralservices.com/obituaries/henry-hank-anderson
LOCATION:West Funeral Home 17 Merrimon Ave  Weaverville NC 28787
GEO:35.6954664;-82.5624561
END:VEVENT
END:VCALENDAR