BEGIN:VCALENDAR
VERSION:2.0
PRODID:-//Tukios.com/
BEGIN:VEVENT
UID:7f6ba4d9-e189-4a22-bce7-1ff96fa556e0@www.westfamilyfuneralservices.com
DTSTAMP:20260421T022451Z
DTSTART:20260423T134500Z
DTEND:20260423T144500Z
SUMMARY:Visitation
DESCRIPTION:
URL:https://www.westfamilyfuneralservices.com/obituaries/henry-hank-anderson
LOCATION:West Funeral Home 17 Merrimon Ave  Weaverville NC 28787
GEO:35.6954664;-82.5624561
END:VEVENT
END:VCALENDAR