BEGIN:VCALENDAR
VERSION:2.0
PRODID:-//Tukios.com/
BEGIN:VEVENT
UID:ad20f786-9d73-4e83-906a-303de062fb71@www.westfamilyfuneralservices.com
DTSTAMP:20260424T221355Z
DTSTART:20260502T210000Z
DTEND:20260502T230000Z
SUMMARY:Visitation
DESCRIPTION:
URL:https://www.westfamilyfuneralservices.com/obituaries/gary-lankford
LOCATION:West Funeral Home 17 Merrimon Ave  Weaverville NC 28787
GEO:35.6954664;-82.5624561
END:VEVENT
END:VCALENDAR