BEGIN:VCALENDAR
VERSION:2.0
PRODID:-//Tukios.com/
BEGIN:VEVENT
UID:faf64091-ffeb-414e-887f-6c326da45e11@www.westfamilyfuneralservices.com
DTSTAMP:20260423T230707Z
DTSTART:20260501T183000Z
DTEND:20260501T193000Z
SUMMARY:Memorial Service
DESCRIPTION:
URL:https://www.westfamilyfuneralservices.com/obituaries/fred-smith
LOCATION:Chapel of West Funeral Home 17 Merrimon Ave  Weaverville NC 
	28787
GEO:35.6954664;-82.5624561
END:VEVENT
END:VCALENDAR