BEGIN:VCALENDAR
VERSION:2.0
PRODID:-//Tukios.com/
BEGIN:VEVENT
UID:faacbda6-a2fb-448c-a1c0-c57c58cecb15@www.westfamilyfuneralservices.com
DTSTAMP:20260419T224936Z
DTSTART:20260502T183000Z
DTEND:20260502T193000Z
SUMMARY:Memorial Gathering
DESCRIPTION:
URL:https://www.westfamilyfuneralservices.com/obituaries/enoch-chappell
LOCATION:West Funeral Home 17 Merrimon Ave  Weaverville NC 28787
GEO:35.6954664;-82.5624561
END:VEVENT
END:VCALENDAR